BEGIN:VCALENDAR
VERSION:2.0
PRODID:-//Herstellerverband Haus &amp; Garten - ECPv6.15.20//NONSGML v1.0//EN
CALSCALE:GREGORIAN
METHOD:PUBLISH
X-WR-CALNAME:Herstellerverband Haus &amp; Garten
X-ORIGINAL-URL:https://herstellerverband.de
X-WR-CALDESC:Veranstaltungen für Herstellerverband Haus &amp; Garten
REFRESH-INTERVAL;VALUE=DURATION:PT1H
X-Robots-Tag:noindex
X-PUBLISHED-TTL:PT1H
BEGIN:VTIMEZONE
TZID:Europe/Berlin
BEGIN:DAYLIGHT
TZOFFSETFROM:+0100
TZOFFSETTO:+0200
TZNAME:CEST
DTSTART:20250330T010000
END:DAYLIGHT
BEGIN:STANDARD
TZOFFSETFROM:+0200
TZOFFSETTO:+0100
TZNAME:CET
DTSTART:20251026T010000
END:STANDARD
BEGIN:DAYLIGHT
TZOFFSETFROM:+0100
TZOFFSETTO:+0200
TZNAME:CEST
DTSTART:20260329T010000
END:DAYLIGHT
BEGIN:STANDARD
TZOFFSETFROM:+0200
TZOFFSETTO:+0100
TZNAME:CET
DTSTART:20261025T010000
END:STANDARD
BEGIN:DAYLIGHT
TZOFFSETFROM:+0100
TZOFFSETTO:+0200
TZNAME:CEST
DTSTART:20270328T010000
END:DAYLIGHT
BEGIN:STANDARD
TZOFFSETFROM:+0200
TZOFFSETTO:+0100
TZNAME:CET
DTSTART:20271031T010000
END:STANDARD
END:VTIMEZONE
BEGIN:VEVENT
DTSTART;TZID=Europe/Berlin:20260423T093000
DTEND;TZID=Europe/Berlin:20260423T140000
DTSTAMP:20260423T030421
CREATED:20260223T100234Z
LAST-MODIFIED:20260223T100234Z
UID:10000067-1776936600-1776952800@herstellerverband.de
SUMMARY:HHG-Akademie "Vertriebsrecht"
DESCRIPTION:Als Herstellerverband Haus & Garten e.V. möchten wir Sie mit dieser Schulung gezielt in Ihrer täglichen Praxis unterstützen. Die Veranstaltung richtet sich an Fach- und Führungskräfte aus Vertrieb und Geschäftsführung\, die sich mit den rechtlichen Rahmenbedingungen im Handel mit Bau- und Heimwerkermärkten auseinandersetzen. Mit der Veranstaltung möchten wir Ihnen gemeinsam mit Dr. Udo von Fragstein (VCVF Legal –https://vcvf.legal/de/team/dr-udo-von-fragstein/ ) Know-How an die Hand geben\, um die Verträge mit Ihren Handelspartnern noch besser einordnen zu können. \nTermin: Donnerstag\, 23. April 2026\, 9:30 Uhr – 14:00 Uhr\nOrt: Flughafen Düsseldorf\, DUS Conference plus\, Terminal-Ring 1\, 40474 Düsseldorf \nTermin ist ausgebucht!
URL:https://herstellerverband.de/kalender/hhg-akademie-vertriebsrecht-2/
LOCATION:DUSconference Plus\, Terminal-Ring 1\, Düsseldorf\, 40474\, Deutschland
END:VEVENT
END:VCALENDAR