BEGIN:VCALENDAR
VERSION:2.0
PRODID:-//Herstellerverband Haus &amp; Garten - ECPv6.15.20//NONSGML v1.0//EN
CALSCALE:GREGORIAN
METHOD:PUBLISH
X-WR-CALNAME:Herstellerverband Haus &amp; Garten
X-ORIGINAL-URL:https://herstellerverband.de
X-WR-CALDESC:Veranstaltungen für Herstellerverband Haus &amp; Garten
REFRESH-INTERVAL;VALUE=DURATION:PT1H
X-Robots-Tag:noindex
X-PUBLISHED-TTL:PT1H
BEGIN:VTIMEZONE
TZID:Europe/Berlin
BEGIN:DAYLIGHT
TZOFFSETFROM:+0100
TZOFFSETTO:+0200
TZNAME:CEST
DTSTART:20230326T010000
END:DAYLIGHT
BEGIN:STANDARD
TZOFFSETFROM:+0200
TZOFFSETTO:+0100
TZNAME:CET
DTSTART:20231029T010000
END:STANDARD
BEGIN:DAYLIGHT
TZOFFSETFROM:+0100
TZOFFSETTO:+0200
TZNAME:CEST
DTSTART:20240331T010000
END:DAYLIGHT
BEGIN:STANDARD
TZOFFSETFROM:+0200
TZOFFSETTO:+0100
TZNAME:CET
DTSTART:20241027T010000
END:STANDARD
BEGIN:DAYLIGHT
TZOFFSETFROM:+0100
TZOFFSETTO:+0200
TZNAME:CEST
DTSTART:20250330T010000
END:DAYLIGHT
BEGIN:STANDARD
TZOFFSETFROM:+0200
TZOFFSETTO:+0100
TZNAME:CET
DTSTART:20251026T010000
END:STANDARD
END:VTIMEZONE
BEGIN:VEVENT
DTSTART;VALUE=DATE:20240303
DTEND;VALUE=DATE:20240307
DTSTAMP:20260424T083550
CREATED:20231219T112838Z
LAST-MODIFIED:20240223T102423Z
UID:10000030-1709424000-1709769599@herstellerverband.de
SUMMARY:Internationale Eisenwarenmesse 2024
DESCRIPTION:Besuchen Sie uns in Halle 11.1 Stand-Nr. G050/H059\n \n\nUnsere DIY-Boulevard-Aussteller können hier ihre Catering-Gutscheine bekommen. \n  \n  \n 
URL:https://herstellerverband.de/kalender/2137/
LOCATION:Koelnmesse\, Messeplatz 1\, 50679\, Deutschland
CATEGORIES:Messe
END:VEVENT
BEGIN:VEVENT
DTSTART;TZID=Europe/Berlin:20240313T110000
DTEND;TZID=Europe/Berlin:20240313T160000
DTSTAMP:20260424T083550
CREATED:20230531T102657Z
LAST-MODIFIED:20240212T200131Z
UID:10000017-1710327600-1710345600@herstellerverband.de
SUMMARY:Frühjahrstagung 2024
DESCRIPTION:  \n  \n 
URL:https://herstellerverband.de/kalender/fruehjahrstagung-2023/
LOCATION:Maritim Hotel Düsseldorf\, Maritim-Platz 1\, Düsseldorf\, 40474\, Deutschland
CATEGORIES:HHG MV
END:VEVENT
END:VCALENDAR