BEGIN:VCALENDAR
VERSION:2.0
PRODID:-//Herstellerverband Haus &amp; Garten - ECPv6.15.20//NONSGML v1.0//EN
CALSCALE:GREGORIAN
METHOD:PUBLISH
X-WR-CALNAME:Herstellerverband Haus &amp; Garten
X-ORIGINAL-URL:https://herstellerverband.de
X-WR-CALDESC:Veranstaltungen für Herstellerverband Haus &amp; Garten
REFRESH-INTERVAL;VALUE=DURATION:PT1H
X-Robots-Tag:noindex
X-PUBLISHED-TTL:PT1H
BEGIN:VTIMEZONE
TZID:Europe/Berlin
BEGIN:DAYLIGHT
TZOFFSETFROM:+0100
TZOFFSETTO:+0200
TZNAME:CEST
DTSTART:20230326T010000
END:DAYLIGHT
BEGIN:STANDARD
TZOFFSETFROM:+0200
TZOFFSETTO:+0100
TZNAME:CET
DTSTART:20231029T010000
END:STANDARD
BEGIN:DAYLIGHT
TZOFFSETFROM:+0100
TZOFFSETTO:+0200
TZNAME:CEST
DTSTART:20240331T010000
END:DAYLIGHT
BEGIN:STANDARD
TZOFFSETFROM:+0200
TZOFFSETTO:+0100
TZNAME:CET
DTSTART:20241027T010000
END:STANDARD
BEGIN:DAYLIGHT
TZOFFSETFROM:+0100
TZOFFSETTO:+0200
TZNAME:CEST
DTSTART:20250330T010000
END:DAYLIGHT
BEGIN:STANDARD
TZOFFSETFROM:+0200
TZOFFSETTO:+0100
TZNAME:CET
DTSTART:20251026T010000
END:STANDARD
END:VTIMEZONE
BEGIN:VEVENT
DTSTART;TZID=Europe/Berlin:20240604T110000
DTEND;TZID=Europe/Berlin:20240604T120000
DTSTAMP:20260424T034324
CREATED:20240516T151506Z
LAST-MODIFIED:20240913T134805Z
UID:10000036-1717498800-1717502400@herstellerverband.de
SUMMARY:Webinar mit Innoscape
DESCRIPTION:
URL:https://herstellerverband.de/kalender/webinar-mit-innoscape/
LOCATION:digital
CATEGORIES:HHG digital
END:VEVENT
BEGIN:VEVENT
DTSTART;TZID=Europe/Berlin:20240605T093000
DTEND;TZID=Europe/Berlin:20240605T143000
DTSTAMP:20260424T034324
CREATED:20240223T095831Z
LAST-MODIFIED:20240223T100024Z
UID:10000032-1717579800-1717597800@herstellerverband.de
SUMMARY:AK Geschäftsprozesse + Controlling II
DESCRIPTION:  \n  \n 
URL:https://herstellerverband.de/kalender/ak-geschaeftsprozesse-controlling-ii/
LOCATION:l’Arrivée Hotel & Spa\, Wittbräucker Str. 565\, Dortmund\, 44267\, Deutschland
CATEGORIES:HHG AK
END:VEVENT
BEGIN:VEVENT
DTSTART;VALUE=DATE:20240610
DTEND;VALUE=DATE:20240614
DTSTAMP:20260424T034324
CREATED:20230531T103647Z
LAST-MODIFIED:20230605T213652Z
UID:10000018-1717977600-1718323199@herstellerverband.de
SUMMARY:10th Global DIY Summit
DESCRIPTION:
URL:https://herstellerverband.de/kalender/10th-global-diy-summit/
LOCATION:Rom
CATEGORIES:FEK
END:VEVENT
BEGIN:VEVENT
DTSTART;TZID=Europe/Berlin:20240627T120000
DTEND;TZID=Europe/Berlin:20240628T140000
DTSTAMP:20260424T034324
CREATED:20230412T085139Z
LAST-MODIFIED:20230531T103425Z
UID:10000005-1719489600-1719583200@herstellerverband.de
SUMMARY:Jahreshauptversammlung 2024
DESCRIPTION:
URL:https://herstellerverband.de/kalender/jahreshauptversammlung-herstellerverband-haus-garten-e-v-hotel-radisson-blu-erfurt/
LOCATION:DoubleTree by HILTON\, Hinüberstrasse 6\, Hannover\, 30175\, Deutschland
CATEGORIES:HHG MV
END:VEVENT
END:VCALENDAR