BEGIN:VCALENDAR
VERSION:2.0
PRODID:-//Herstellerverband Haus &amp; Garten - ECPv6.15.20//NONSGML v1.0//EN
CALSCALE:GREGORIAN
METHOD:PUBLISH
X-ORIGINAL-URL:https://herstellerverband.de
X-WR-CALDESC:Veranstaltungen für Herstellerverband Haus &amp; Garten
REFRESH-INTERVAL;VALUE=DURATION:PT1H
X-Robots-Tag:noindex
X-PUBLISHED-TTL:PT1H
BEGIN:VTIMEZONE
TZID:Europe/Berlin
BEGIN:DAYLIGHT
TZOFFSETFROM:+0100
TZOFFSETTO:+0200
TZNAME:CEST
DTSTART:20240331T010000
END:DAYLIGHT
BEGIN:STANDARD
TZOFFSETFROM:+0200
TZOFFSETTO:+0100
TZNAME:CET
DTSTART:20241027T010000
END:STANDARD
BEGIN:DAYLIGHT
TZOFFSETFROM:+0100
TZOFFSETTO:+0200
TZNAME:CEST
DTSTART:20250330T010000
END:DAYLIGHT
BEGIN:STANDARD
TZOFFSETFROM:+0200
TZOFFSETTO:+0100
TZNAME:CET
DTSTART:20251026T010000
END:STANDARD
BEGIN:DAYLIGHT
TZOFFSETFROM:+0100
TZOFFSETTO:+0200
TZNAME:CEST
DTSTART:20260329T010000
END:DAYLIGHT
BEGIN:STANDARD
TZOFFSETFROM:+0200
TZOFFSETTO:+0100
TZNAME:CET
DTSTART:20261025T010000
END:STANDARD
END:VTIMEZONE
BEGIN:VEVENT
DTSTART;TZID=Europe/Berlin:20250306T120000
DTEND;TZID=Europe/Berlin:20250306T130000
DTSTAMP:20260423T130850
CREATED:20241219T100355Z
LAST-MODIFIED:20241219T100355Z
UID:10000049-1741262400-1741266000@herstellerverband.de
SUMMARY:Webinar zur neuen Produkthaftungsrichtlinie mit Prof. Dr. Thomas Klindt
DESCRIPTION:Die Produkthaftungsrichtlinie wurde am 18.11.2024 im Amtsblatt der EU veröffentlicht und ist am 9.12.2024 in Kraft getreten. Die Umsetzungsfrist für die nationalen Gesetzgeber läuft bis Dezember 2026. Bis zu diesem Datum müssen die Regeln in nationales Recht umgesetzt werden. \nDie Produkthaftungsrichtlinie zielt auf die verschuldensunabhängige Haftung eines Unternehmens für den Fall\, dass eine Person/Sache durch ein fehlerhaftes Produkt zu Schaden kommt. Mit der Reform des Produkthaftungsrechts will die EU das seit 1985 bestehende Recht an die neuen Technologien (Digitalisierung/KI) und globale Lieferketten anpassen (Digitalisierung/KI). Die Reform des Produkthaftungsrechts bringt erhebliche Verschärfungen für Unternehmen mit sich. \nGemeinsam mit Prof. Dr. Thomas Klindt werden wir am 6.3.2024 von 12:00- 13.00 Uhr im Rahmen eines Webinars die Neuerungen der Produkthaftungsrichtlinie besprechen. Welche Änderungen gibt es? Was bedeuten die Änderungen konkret für meine Unternehmensprozesse? Was gilt es im Unternehmen zu beachten?  \nBitte merken Sie sich dieses Datum schon einmal vor.
URL:https://herstellerverband.de/kalender/webinar-zur-neuen-produkthaftungsrichtlinie-mit-prof-dr-thomas-klindt/
LOCATION:Webinar
CATEGORIES:HHG digital
END:VEVENT
BEGIN:VEVENT
DTSTART;TZID=Europe/Berlin:20250312T110000
DTEND;TZID=Europe/Berlin:20250312T163000
DTSTAMP:20260423T130850
CREATED:20240913T143315Z
LAST-MODIFIED:20250213T133600Z
UID:10000038-1741777200-1741797000@herstellerverband.de
SUMMARY:Frühjahrstagung 2025
DESCRIPTION:
URL:https://herstellerverband.de/kalender/fruehjahrstagung-2025/
LOCATION:Kongresszentrum Dortmund\, Rheinlanddamm 200\, Dortmund\, Nordrhein-Westfalen\, 44139\, Germany
CATEGORIES:HHG MV
END:VEVENT
END:VCALENDAR