BEGIN:VCALENDAR
VERSION:2.0
PRODID:-//Herstellerverband Haus &amp; Garten - ECPv6.15.20//NONSGML v1.0//EN
CALSCALE:GREGORIAN
METHOD:PUBLISH
X-WR-CALNAME:Herstellerverband Haus &amp; Garten
X-ORIGINAL-URL:https://herstellerverband.de
X-WR-CALDESC:Veranstaltungen für Herstellerverband Haus &amp; Garten
REFRESH-INTERVAL;VALUE=DURATION:PT1H
X-Robots-Tag:noindex
X-PUBLISHED-TTL:PT1H
BEGIN:VTIMEZONE
TZID:Europe/Berlin
BEGIN:DAYLIGHT
TZOFFSETFROM:+0100
TZOFFSETTO:+0200
TZNAME:CEST
DTSTART:20240331T010000
END:DAYLIGHT
BEGIN:STANDARD
TZOFFSETFROM:+0200
TZOFFSETTO:+0100
TZNAME:CET
DTSTART:20241027T010000
END:STANDARD
BEGIN:DAYLIGHT
TZOFFSETFROM:+0100
TZOFFSETTO:+0200
TZNAME:CEST
DTSTART:20250330T010000
END:DAYLIGHT
BEGIN:STANDARD
TZOFFSETFROM:+0200
TZOFFSETTO:+0100
TZNAME:CET
DTSTART:20251026T010000
END:STANDARD
BEGIN:DAYLIGHT
TZOFFSETFROM:+0100
TZOFFSETTO:+0200
TZNAME:CEST
DTSTART:20260329T010000
END:DAYLIGHT
BEGIN:STANDARD
TZOFFSETFROM:+0200
TZOFFSETTO:+0100
TZNAME:CET
DTSTART:20261025T010000
END:STANDARD
END:VTIMEZONE
BEGIN:VEVENT
DTSTART;TZID=Europe/Berlin:20250409T083000
DTEND;TZID=Europe/Berlin:20250409T093000
DTSTAMP:20260423T113538
CREATED:20250317T102305Z
LAST-MODIFIED:20250317T102305Z
UID:10000052-1744187400-1744191000@herstellerverband.de
SUMMARY:CEO-Talk
DESCRIPTION:
URL:https://herstellerverband.de/kalender/ceo-talk-2/
LOCATION:digital
CATEGORIES:HHG digital
END:VEVENT
BEGIN:VEVENT
DTSTART;TZID=Europe/Berlin:20250410T093000
DTEND;TZID=Europe/Berlin:20250410T140000
DTSTAMP:20260423T113538
CREATED:20241216T120451Z
LAST-MODIFIED:20250113T121252Z
UID:10000048-1744277400-1744293600@herstellerverband.de
SUMMARY:AK DIY-Vertrieb International
DESCRIPTION:
URL:https://herstellerverband.de/kalender/ak-diy-vertrieb-international-2/
LOCATION:DUSconference Plus\, Terminal-Ring 1\, Düsseldorf\, 40474\, Deutschland
CATEGORIES:HHG AK
END:VEVENT
END:VCALENDAR