BEGIN:VCALENDAR
VERSION:2.0
PRODID:-//Herstellerverband Haus &amp; Garten - ECPv6.15.20//NONSGML v1.0//EN
CALSCALE:GREGORIAN
METHOD:PUBLISH
X-WR-CALNAME:Herstellerverband Haus &amp; Garten
X-ORIGINAL-URL:https://herstellerverband.de
X-WR-CALDESC:Veranstaltungen für Herstellerverband Haus &amp; Garten
REFRESH-INTERVAL;VALUE=DURATION:PT1H
X-Robots-Tag:noindex
X-PUBLISHED-TTL:PT1H
BEGIN:VTIMEZONE
TZID:Europe/Berlin
BEGIN:DAYLIGHT
TZOFFSETFROM:+0100
TZOFFSETTO:+0200
TZNAME:CEST
DTSTART:20240331T010000
END:DAYLIGHT
BEGIN:STANDARD
TZOFFSETFROM:+0200
TZOFFSETTO:+0100
TZNAME:CET
DTSTART:20241027T010000
END:STANDARD
BEGIN:DAYLIGHT
TZOFFSETFROM:+0100
TZOFFSETTO:+0200
TZNAME:CEST
DTSTART:20250330T010000
END:DAYLIGHT
BEGIN:STANDARD
TZOFFSETFROM:+0200
TZOFFSETTO:+0100
TZNAME:CET
DTSTART:20251026T010000
END:STANDARD
BEGIN:DAYLIGHT
TZOFFSETFROM:+0100
TZOFFSETTO:+0200
TZNAME:CEST
DTSTART:20260329T010000
END:DAYLIGHT
BEGIN:STANDARD
TZOFFSETFROM:+0200
TZOFFSETTO:+0100
TZNAME:CET
DTSTART:20261025T010000
END:STANDARD
END:VTIMEZONE
BEGIN:VEVENT
DTSTART;TZID=Europe/Berlin:20250526T123000
DTEND;TZID=Europe/Berlin:20250526T140000
DTSTAMP:20260423T101003
CREATED:20250317T103347Z
LAST-MODIFIED:20250317T103555Z
UID:10000053-1748262600-1748268000@herstellerverband.de
SUMMARY:LaDIY-Netzwerk Lunchsession
DESCRIPTION:Nach dem gelungenen Start unseres „LaDIY Frauennetzwerk der Bau- und Gartenmarkt“ am 22. Januar 2025 freuen wir uns zur kommenden Lunchsession einzuladen. \nUnsere erste digitale Lunchsession findet statt am Montag\, 26.5.2025 von 12:30 -14:00 Uhr. \nWir bitten um Anmeldung bis zum 15.5.2025 via Mail an info@herstellerverband.de .\nIm Anschluss versenden wir den Link zum digitalen Format.  \nDas Webinar richtet sich an die weiblichen Mitarbeiterinnen in den Mitgliedsunternehmen.
URL:https://herstellerverband.de/kalender/ladiy-netzwerk-lunchsession/
CATEGORIES:HHG digital
END:VEVENT
END:VCALENDAR