BEGIN:VCALENDAR
VERSION:2.0
PRODID:-//Herstellerverband Haus &amp; Garten - ECPv6.15.20//NONSGML v1.0//EN
CALSCALE:GREGORIAN
METHOD:PUBLISH
X-ORIGINAL-URL:https://herstellerverband.de
X-WR-CALDESC:Veranstaltungen für Herstellerverband Haus &amp; Garten
REFRESH-INTERVAL;VALUE=DURATION:PT1H
X-Robots-Tag:noindex
X-PUBLISHED-TTL:PT1H
BEGIN:VTIMEZONE
TZID:Europe/Berlin
BEGIN:DAYLIGHT
TZOFFSETFROM:+0100
TZOFFSETTO:+0200
TZNAME:CEST
DTSTART:20240331T010000
END:DAYLIGHT
BEGIN:STANDARD
TZOFFSETFROM:+0200
TZOFFSETTO:+0100
TZNAME:CET
DTSTART:20241027T010000
END:STANDARD
BEGIN:DAYLIGHT
TZOFFSETFROM:+0100
TZOFFSETTO:+0200
TZNAME:CEST
DTSTART:20250330T010000
END:DAYLIGHT
BEGIN:STANDARD
TZOFFSETFROM:+0200
TZOFFSETTO:+0100
TZNAME:CET
DTSTART:20251026T010000
END:STANDARD
BEGIN:DAYLIGHT
TZOFFSETFROM:+0100
TZOFFSETTO:+0200
TZNAME:CEST
DTSTART:20260329T010000
END:DAYLIGHT
BEGIN:STANDARD
TZOFFSETFROM:+0200
TZOFFSETTO:+0100
TZNAME:CET
DTSTART:20261025T010000
END:STANDARD
END:VTIMEZONE
BEGIN:VEVENT
DTSTART;TZID=Europe/Berlin:20250604T093000
DTEND;TZID=Europe/Berlin:20250604T143000
DTSTAMP:20260423T081913
CREATED:20241121T122323Z
LAST-MODIFIED:20250519T064133Z
UID:10000046-1749029400-1749047400@herstellerverband.de
SUMMARY:AK Geschäftsprozesse + Digitalisierung II
DESCRIPTION:———————————————————————————————————————————————————————————————————————— \nAnmeldung bitte über: AK GPD II-2025 \n————————————————————————————————————————————————————————————————————————
URL:https://herstellerverband.de/kalender/ak-geschaeftsprozesse-controlling-ii-2/
LOCATION:l’Arrivée Hotel & Spa\, Wittbräucker Str. 565\, Dortmund\, 44267\, Deutschland
CATEGORIES:HHG AK
END:VEVENT
BEGIN:VEVENT
DTSTART;TZID=Europe/Berlin:20250626T120000
DTEND;TZID=Europe/Berlin:20250627T140000
DTSTAMP:20260423T081913
CREATED:20241121T122017Z
LAST-MODIFIED:20250422T090420Z
UID:10000042-1750939200-1751032800@herstellerverband.de
SUMMARY:Jahreshauptversammlung 2025
DESCRIPTION:
URL:https://herstellerverband.de/kalender/jahreshauptversammlung-2025/
LOCATION:Maritim Hotel Ulm\, Basteistraße 40\, Ulm\, 89073\, Germany
CATEGORIES:HHG MV
END:VEVENT
END:VCALENDAR