BEGIN:VCALENDAR
VERSION:2.0
PRODID:-//Herstellerverband Haus &amp; Garten - ECPv6.15.20//NONSGML v1.0//EN
CALSCALE:GREGORIAN
METHOD:PUBLISH
X-ORIGINAL-URL:https://herstellerverband.de
X-WR-CALDESC:Veranstaltungen für Herstellerverband Haus &amp; Garten
REFRESH-INTERVAL;VALUE=DURATION:PT1H
X-Robots-Tag:noindex
X-PUBLISHED-TTL:PT1H
BEGIN:VTIMEZONE
TZID:Europe/Berlin
BEGIN:DAYLIGHT
TZOFFSETFROM:+0100
TZOFFSETTO:+0200
TZNAME:CEST
DTSTART:20240331T010000
END:DAYLIGHT
BEGIN:STANDARD
TZOFFSETFROM:+0200
TZOFFSETTO:+0100
TZNAME:CET
DTSTART:20241027T010000
END:STANDARD
BEGIN:DAYLIGHT
TZOFFSETFROM:+0100
TZOFFSETTO:+0200
TZNAME:CEST
DTSTART:20250330T010000
END:DAYLIGHT
BEGIN:STANDARD
TZOFFSETFROM:+0200
TZOFFSETTO:+0100
TZNAME:CET
DTSTART:20251026T010000
END:STANDARD
BEGIN:DAYLIGHT
TZOFFSETFROM:+0100
TZOFFSETTO:+0200
TZNAME:CEST
DTSTART:20260329T010000
END:DAYLIGHT
BEGIN:STANDARD
TZOFFSETFROM:+0200
TZOFFSETTO:+0100
TZNAME:CET
DTSTART:20261025T010000
END:STANDARD
END:VTIMEZONE
BEGIN:VEVENT
DTSTART;TZID=Europe/Berlin:20251126T080000
DTEND;TZID=Europe/Berlin:20251127T170000
DTSTAMP:20260422T234357
CREATED:20251014T124605Z
LAST-MODIFIED:20251014T133314Z
UID:10000064-1764144000-1764262800@herstellerverband.de
SUMMARY:26. Internationaler BHB-Kongress
DESCRIPTION:BHB-Kongress
URL:https://herstellerverband.de/kalender/bhb-kongress/
LOCATION:WCCB\, Platz der Vereinten Nationen 2\, Bonn\, NRW\, 53113\, Germany
CATEGORIES:BHB
END:VEVENT
END:VCALENDAR