BEGIN:VCALENDAR
VERSION:2.0
PRODID:-//Herstellerverband Haus &amp; Garten - ECPv6.15.20//NONSGML v1.0//EN
CALSCALE:GREGORIAN
METHOD:PUBLISH
X-ORIGINAL-URL:https://herstellerverband.de
X-WR-CALDESC:Veranstaltungen für Herstellerverband Haus &amp; Garten
REFRESH-INTERVAL;VALUE=DURATION:PT1H
X-Robots-Tag:noindex
X-PUBLISHED-TTL:PT1H
BEGIN:VTIMEZONE
TZID:Europe/Berlin
BEGIN:DAYLIGHT
TZOFFSETFROM:+0100
TZOFFSETTO:+0200
TZNAME:CEST
DTSTART:20250330T010000
END:DAYLIGHT
BEGIN:STANDARD
TZOFFSETFROM:+0200
TZOFFSETTO:+0100
TZNAME:CET
DTSTART:20251026T010000
END:STANDARD
BEGIN:DAYLIGHT
TZOFFSETFROM:+0100
TZOFFSETTO:+0200
TZNAME:CEST
DTSTART:20260329T010000
END:DAYLIGHT
BEGIN:STANDARD
TZOFFSETFROM:+0200
TZOFFSETTO:+0100
TZNAME:CET
DTSTART:20261025T010000
END:STANDARD
BEGIN:DAYLIGHT
TZOFFSETFROM:+0100
TZOFFSETTO:+0200
TZNAME:CEST
DTSTART:20270328T010000
END:DAYLIGHT
BEGIN:STANDARD
TZOFFSETFROM:+0200
TZOFFSETTO:+0100
TZNAME:CET
DTSTART:20271031T010000
END:STANDARD
END:VTIMEZONE
BEGIN:VEVENT
DTSTART;TZID=Europe/Berlin:20260224T093000
DTEND;TZID=Europe/Berlin:20260224T143000
DTSTAMP:20260422T184400
CREATED:20251216T084431Z
LAST-MODIFIED:20251216T084557Z
UID:10000065-1771925400-1771943400@herstellerverband.de
SUMMARY:AK Vertrieb International I
DESCRIPTION:
URL:https://herstellerverband.de/kalender/ak-vertieb-international-i/
LOCATION:DUSconference Plus\, Terminal-Ring 1\, Düsseldorf\, 40474\, Deutschland
CATEGORIES:HHG AK
END:VEVENT
BEGIN:VEVENT
DTSTART;TZID=Europe/Berlin:20260226T093000
DTEND;TZID=Europe/Berlin:20260226T140000
DTSTAMP:20260422T184400
CREATED:20260223T100132Z
LAST-MODIFIED:20260223T100405Z
UID:10000066-1772098200-1772114400@herstellerverband.de
SUMMARY:HHG-Akademie "Vertriebsrecht"
DESCRIPTION:Als Herstellerverband Haus & Garten e.V. möchten wir Sie mit dieser Schulung gezielt in Ihrer täglichen Praxis unterstützen. Die Veranstaltung richtet sich an Fach- und Führungskräfte aus Vertrieb und Geschäftsführung\, die sich mit den rechtlichen Rahmenbedingungen im Handel mit Bau- und Heimwerkermärkten auseinandersetzen. Mit der Veranstaltung möchten wir Ihnen gemeinsam mit Dr. Udo von Fragstein (VCVF Legal –https://vcvf.legal/de/team/dr-udo-von-fragstein/ ) Know-How an die Hand geben\, um die Verträge mit Ihren Handelspartnern noch besser einordnen zu können. \nTermin: Donnerstag\, 26. Februar 2026\, 9:30 Uhr – 14:00 Uhr\nOrt: Flughafen Düsseldorf\, DUS Conference plus\, Terminal-Ring 1\, 40474 Düsseldorf \nTermin ist ausgebucht
URL:https://herstellerverband.de/kalender/hhg-akademie-vertriebsrecht/
LOCATION:DUSconference Plus\, Terminal-Ring 1\, Düsseldorf\, 40474\, Deutschland
END:VEVENT
END:VCALENDAR