BEGIN:VCALENDAR
VERSION:2.0
PRODID:-//Herstellerverband Haus &amp; Garten - ECPv6.15.20//NONSGML v1.0//EN
CALSCALE:GREGORIAN
METHOD:PUBLISH
X-ORIGINAL-URL:https://herstellerverband.de
X-WR-CALDESC:Veranstaltungen für Herstellerverband Haus &amp; Garten
REFRESH-INTERVAL;VALUE=DURATION:PT1H
X-Robots-Tag:noindex
X-PUBLISHED-TTL:PT1H
BEGIN:VTIMEZONE
TZID:Europe/Berlin
BEGIN:DAYLIGHT
TZOFFSETFROM:+0100
TZOFFSETTO:+0200
TZNAME:CEST
DTSTART:20250330T010000
END:DAYLIGHT
BEGIN:STANDARD
TZOFFSETFROM:+0200
TZOFFSETTO:+0100
TZNAME:CET
DTSTART:20251026T010000
END:STANDARD
BEGIN:DAYLIGHT
TZOFFSETFROM:+0100
TZOFFSETTO:+0200
TZNAME:CEST
DTSTART:20260329T010000
END:DAYLIGHT
BEGIN:STANDARD
TZOFFSETFROM:+0200
TZOFFSETTO:+0100
TZNAME:CET
DTSTART:20261025T010000
END:STANDARD
BEGIN:DAYLIGHT
TZOFFSETFROM:+0100
TZOFFSETTO:+0200
TZNAME:CEST
DTSTART:20270328T010000
END:DAYLIGHT
BEGIN:STANDARD
TZOFFSETFROM:+0200
TZOFFSETTO:+0100
TZNAME:CET
DTSTART:20271031T010000
END:STANDARD
END:VTIMEZONE
BEGIN:VEVENT
DTSTART;TZID=Europe/Berlin:20260616T080000
DTEND;TZID=Europe/Berlin:20260618T170000
DTSTAMP:20260422T184330
CREATED:20251014T124856Z
LAST-MODIFIED:20251014T124856Z
UID:10000063-1781596800-1781802000@herstellerverband.de
SUMMARY:12. Global DIY Summit
DESCRIPTION:Global DIY-Summit | HIMA Network \n  \n(20) Global DIY-Summit: Übersicht | LinkedIn
URL:https://herstellerverband.de/kalender/12-global-diy-summit/
LOCATION:Amsterdam
END:VEVENT
BEGIN:VEVENT
DTSTART;VALUE=DATE:20260630
DTEND;VALUE=DATE:20260701
DTSTAMP:20260422T184330
CREATED:20250812T091450Z
LAST-MODIFIED:20250812T091450Z
UID:10000054-1782777600-1782863999@herstellerverband.de
SUMMARY:SynLOG-Tag 2026
DESCRIPTION:
URL:https://herstellerverband.de/kalender/synlog-tag-2026/
LOCATION:Rohrmeisterei Schwerte\, Ruhrstraße 20\, Schwerte\, 58239\, Deutschland
CATEGORIES:SynLOG
ORGANIZER;CN="SynLOG":MAILTO:mschering@synlog.org
END:VEVENT
END:VCALENDAR